BEGIN:VCALENDAR
VERSION:2.0
PRODID:-//wp-events-plugin.com//7.2.3.1//EN
TZID:America/Detroit
X-WR-TIMEZONE:America/Detroit
BEGIN:VEVENT
UID:3093@jugandmug.org
DTSTART;TZID=America/Detroit:20260424T170000
DTEND;TZID=America/Detroit:20260424T190000
DTSTAMP:20260412T210040Z
URL:https://jugandmug.org/events/happy-hour-295/
SUMMARY:Happy Hour
DESCRIPTION:Happy Hour is a good time to socialize and get to know others\,
  exchange what is happening in the area and Club events. You do not need t
 o be a member to join us.\n Normally\, a table area has been saved\, so w
 hen you come\, ask the hostess where we are seated. Questions or recommend
 s where to eat\, contact Tom Sarra\, ‭(419) 376-8744‬\, our Friday coo
 rdinator.
CATEGORIES:TGIF
LOCATION:Crunchy's Sports Bar\, 254 W Grand River\, East Lansing\, Mi\, 
X-APPLE-STRUCTURED-LOCATION;VALUE=URI;X-ADDRESS=254 W Grand River\, East La
 nsing\, Mi\, ;X-APPLE-RADIUS=100;X-TITLE=Crunchy's Sports Bar:geo:0,0
END:VEVENT
BEGIN:VTIMEZONE
TZID:America/Detroit
X-LIC-LOCATION:America/Detroit
BEGIN:DAYLIGHT
DTSTART:20260308T030000
TZOFFSETFROM:-0500
TZOFFSETTO:-0400
TZNAME:EDT
END:DAYLIGHT
END:VTIMEZONE
END:VCALENDAR