BEGIN:VCALENDAR
VERSION:2.0
PRODID:-//wp-events-plugin.com//7.2.3.1//EN
TZID:America/Detroit
X-WR-TIMEZONE:America/Detroit
BEGIN:VEVENT
UID:2252@jugandmug.org
DTSTART;TZID=America/Detroit:20180825T133000
DTEND;TZID=America/Detroit:20180825T173000
DTSTAMP:20180721T174404Z
URL:https://jugandmug.org/events/a-kayak-float-through-downtown-lansing/
SUMMARY:A Kayak Float Through Downtown Lansing
DESCRIPTION:A Kayak Outing From\n River Town Adventures\n325 City Market D
 rive\, Lansing\nwww.rivertownadventures.com\n\nReservations for 8 kayaks w
 ith transport has been made for Saturday\, August 25\, by trip coordinator
  Christine Wright.  Arrive at 1:30 to sign the waiver form and make payme
 nt.  Payment can be made by cash or credit card. If you bring your own ka
 yak\, the cost is $10 to transport it.\n\nDo let Chris know by April 17\, 
 if you plan to kayak so she can have correct number of kayaks reserved whi
 ch will assure you of having one.  Let her know if you plan to 1) rent\, 
 2) bring your own kayak\, 3) which trip you want.   She can be reach by t
 ext or phone at (978)854-222) or orthowright@yahoo.com.\nThe Two trips Opt
 ions Are:\n1-1.5 Hour Adventure from Moore Park to City Market.\n$20 a kay
 ak\nZoo to the Market -- Kruger Landing downstream to City Market\n2-2.5 h
 our adventure.\n$25 kayak\nAfter the kayak trip\, the group will determine
  where they would like to eat.\n&nbsp\;\n\n&nbsp\;\n\n&nbsp\;\n\n&nbsp\;\n
 \n&nbsp\;\n\n&nbsp\;
CATEGORIES:Featured Events
LOCATION:\, \, 
X-APPLE-STRUCTURED-LOCATION;VALUE=URI;X-ADDRESS=\, ;X-APPLE-RADIUS=100;X-TI
 TLE=:geo:0,0
END:VEVENT
BEGIN:VTIMEZONE
TZID:America/Detroit
X-LIC-LOCATION:America/Detroit
BEGIN:DAYLIGHT
DTSTART:20180311T030000
TZOFFSETFROM:-0500
TZOFFSETTO:-0400
TZNAME:EDT
END:DAYLIGHT
END:VTIMEZONE
END:VCALENDAR